BEGIN:VCALENDAR
VERSION:2.0
PRODID:-//81.169.145.86//NONSGML kigkonsult.se iCalcreator 2.20//
CALSCALE:GREGORIAN
METHOD:PUBLISH
X-WR-TIMEZONE:Europe/Berlin
BEGIN:VEVENT
UID:event110@Unsere Vision - J.Scheel - Hilfe zur Selbsthilfe
DTSTAMP:20260425T121255Z
CATEGORIES:öffentlich\, allg. und VISION-Kunden
DESCRIPTION:Tag der offenen Tür in der Hoppetosse\nKategorie: öffentlich\, 
 allg. und VISION-Kunden\nICS-Link: https://www.unserevision.de/index.php?o
 ption=com_jem&view=event&id=110:tag-der-offenen-tuer-in-der-hoppetosse&Ite
 mid=1889\n
DTSTART;TZID=Europe/Berlin:20260509T100000
DTEND;TZID=Europe/Berlin:20260509T120000
LOCATION:Kita 'Hoppetosse'\,Anklamer Feld 9\,17109 Demmin
SUMMARY:Tag der offenen Tür in der Hoppetosse
URL:https://www.unserevision.de/index.php?option=com_jem&view=event&id=110:
 tag-der-offenen-tuer-in-der-hoppetosse&Itemid=1889
END:VEVENT
END:VCALENDAR